BEGIN:VCALENDAR
VERSION:2.0
PRODID:-//85.13.139.124//NONSGML kigkonsult.se iCalcreator 2.20//
CALSCALE:GREGORIAN
METHOD:PUBLISH
X-WR-TIMEZONE:Europe/Berlin
BEGIN:VEVENT
UID:event79@Bayerischer Wald-Verein, Sektion Freyung
DTSTAMP:20260421T092838Z
CATEGORIES:Jahresprogramm
DESCRIPTION:Zwercheck – Schwarzer See Teufelssee – Spitzberg (CZ)\nKategori
 e: Jahresprogramm\nICS-Link: http://www.waldverein-freyung.de/index.php?op
 tion=com_jem&view=event&id=79:zwercheck-schwarzer-see-teufelssee-spitzberg
 -cz\n
DTSTART;TZID=Europe/Berlin:20170819T090000
DTEND;TZID=Europe/Berlin:20170819T090000
LOCATION:Zwercheck\, Lohberg\,93470 Lohberg
SUMMARY:Zwercheck – Schwarzer See Teufelssee – Spitzberg (CZ)
URL:http://www.waldverein-freyung.de/index.php?option=com_jem&view=event&id
 =79:zwercheck-schwarzer-see-teufelssee-spitzberg-cz
END:VEVENT
END:VCALENDAR
