BEGIN:VCALENDAR
VERSION:2.0
PRODID:-//85.13.139.124//NONSGML kigkonsult.se iCalcreator 2.20//
CALSCALE:GREGORIAN
METHOD:PUBLISH
X-WR-TIMEZONE:Europe/Berlin
BEGIN:VEVENT
UID:event65@Bayerischer Wald-Verein, Sektion Freyung
DTSTAMP:20260419T145336Z
CATEGORIES:Jahresprogramm
DESCRIPTION:Frühlingswanderung\nKategorie: Jahresprogramm\nICS-Link: http:/
 /www.waldverein-freyung.de/index.php?option=com_jem&view=event&id=65:frueh
 lingswanderung\n
DTSTART;TZID=Europe/Berlin:20170501T110000
DTEND;TZID=Europe/Berlin:20170501T110000
LOCATION:Jacking\,Ruderting
SUMMARY:Frühlingswanderung
URL:http://www.waldverein-freyung.de/index.php?option=com_jem&view=event&id
 =65:fruehlingswanderung
END:VEVENT
END:VCALENDAR
