BEGIN:VCALENDAR
VERSION:2.0
PRODID:-//85.13.139.124//NONSGML kigkonsult.se iCalcreator 2.20//
CALSCALE:GREGORIAN
METHOD:PUBLISH
X-WR-TIMEZONE:Europe/Berlin
BEGIN:VEVENT
UID:event52@Bayerischer Wald-Verein, Sektion Freyung
DTSTAMP:20260419T125715Z
CATEGORIES:Jahresprogramm
DESCRIPTION:3- Tages-Fahrt in die Wachau (A)\nKategorie: Jahresprogramm\nIC
 S-Link: http://www.waldverein-freyung.de/index.php?option=com_jem&view=eve
 nt&id=52:3-tages-fahrt-in-die-wachau-a\n
DTSTART;TZID=Europe/Berlin:20160910T063000
DTEND;TZID=Europe/Berlin:20160912T063000
LOCATION:Wachau\,Dürnstein
SUMMARY:3- Tages-Fahrt in die Wachau (A)
URL:http://www.waldverein-freyung.de/index.php?option=com_jem&view=event&id
 =52:3-tages-fahrt-in-die-wachau-a
END:VEVENT
END:VCALENDAR
