BEGIN:VCALENDAR
VERSION:2.0
PRODID:-//85.13.139.124//NONSGML kigkonsult.se iCalcreator 2.20//
CALSCALE:GREGORIAN
METHOD:PUBLISH
X-WR-TIMEZONE:Europe/Berlin
BEGIN:VEVENT
UID:event44@Bayerischer Wald-Verein, Sektion Freyung
DTSTAMP:20260419T124608Z
CATEGORIES:Jahresprogramm
DESCRIPTION:Bodenmais\nKategorie: Jahresprogramm\nICS-Link: http://www.wald
 verein-freyung.de/index.php?option=com_jem&view=event&id=44:bodenmais\n
DTSTART;TZID=Europe/Berlin:20161022T093000
DTEND;TZID=Europe/Berlin:20161022T093000
LOCATION:Bodenmais\,Bodenmais
SUMMARY:Bodenmais
URL:http://www.waldverein-freyung.de/index.php?option=com_jem&view=event&id
 =44:bodenmais
END:VEVENT
END:VCALENDAR
