BEGIN:VCALENDAR
VERSION:2.0
PRODID:-//85.13.139.124//NONSGML kigkonsult.se iCalcreator 2.20//
CALSCALE:GREGORIAN
METHOD:PUBLISH
X-WR-TIMEZONE:Europe/Berlin
BEGIN:VEVENT
UID:event43@Bayerischer Wald-Verein, Sektion Freyung
DTSTAMP:20260419T124710Z
CATEGORIES:Jahresprogramm
DESCRIPTION:Guglwald - St. Thomas (CZ)\nKategorie: Jahresprogramm\nICS-Link
 : http://www.waldverein-freyung.de/index.php?option=com_jem&view=event&id=
 43:guglwald-st-thomas-cz\n
DTSTART;TZID=Europe/Berlin:20161008T080000
DTEND;TZID=Europe/Berlin:20161008T080000
LOCATION:Guglwald\,4191 Guglwald
SUMMARY:Guglwald - St. Thomas (CZ)
URL:http://www.waldverein-freyung.de/index.php?option=com_jem&view=event&id
 =43:guglwald-st-thomas-cz
END:VEVENT
END:VCALENDAR
