BEGIN:VCALENDAR
VERSION:2.0
PRODID:-//85.13.139.124//NONSGML kigkonsult.se iCalcreator 2.20//
CALSCALE:GREGORIAN
METHOD:PUBLISH
X-WR-TIMEZONE:Europe/Berlin
BEGIN:VEVENT
UID:event41@Bayerischer Wald-Verein, Sektion Freyung
DTSTAMP:20260419T124809Z
CATEGORIES:Jahresprogramm
DESCRIPTION:Schachtenpflege\nKategorie: Jahresprogramm\nICS-Link: http://ww
 w.waldverein-freyung.de/index.php?option=com_jem&view=event&id=41:schachte
 npflege\n
DTSTART;VALUE=DATE:20160917
DTEND;VALUE=DATE:20160918
SUMMARY:Schachtenpflege
URL:http://www.waldverein-freyung.de/index.php?option=com_jem&view=event&id
 =41:schachtenpflege
END:VEVENT
END:VCALENDAR
