BEGIN:VCALENDAR
VERSION:2.0
PRODID:-//85.13.139.124//NONSGML kigkonsult.se iCalcreator 2.20//
CALSCALE:GREGORIAN
METHOD:PUBLISH
X-WR-TIMEZONE:Europe/Berlin
BEGIN:VEVENT
UID:event39@Bayerischer Wald-Verein, Sektion Freyung
DTSTAMP:20260419T124835Z
CATEGORIES:Jahresprogramm
DESCRIPTION:Dudelsackfestival in Strakonitce\nKategorie: Jahresprogramm\nIC
 S-Link: http://www.waldverein-freyung.de/index.php?option=com_jem&view=eve
 nt&id=39:dudelsackfestival-in-strakonitce\n
DTSTART;VALUE=DATE:20160827
DTEND;VALUE=DATE:20160828
LOCATION:Strakonice\,Strakonice
SUMMARY:Dudelsackfestival in Strakonitce
URL:http://www.waldverein-freyung.de/index.php?option=com_jem&view=event&id
 =39:dudelsackfestival-in-strakonitce
END:VEVENT
END:VCALENDAR
