BEGIN:VCALENDAR
VERSION:2.0
PRODID:-//85.13.139.124//NONSGML kigkonsult.se iCalcreator 2.20//
CALSCALE:GREGORIAN
METHOD:PUBLISH
X-WR-TIMEZONE:Europe/Berlin
BEGIN:VEVENT
UID:event37@Bayerischer Wald-Verein, Sektion Freyung
DTSTAMP:20260419T124737Z
CATEGORIES:Jahresprogramm
DESCRIPTION:Lambach - Osser - Hamry\nKategorie: Jahresprogramm\nICS-Link: h
 ttp://www.waldverein-freyung.de/index.php?option=com_jem&view=event&id=37:
 lambach-osser-hamry\n
DTSTART;TZID=Europe/Berlin:20160820T083000
DTEND;TZID=Europe/Berlin:20160820T083000
LOCATION:Hamry\,Hamry na Šumavě
SUMMARY:Lambach - Osser - Hamry
URL:http://www.waldverein-freyung.de/index.php?option=com_jem&view=event&id
 =37:lambach-osser-hamry
END:VEVENT
END:VCALENDAR
