BEGIN:VCALENDAR
VERSION:2.0
PRODID:-//85.13.139.124//NONSGML kigkonsult.se iCalcreator 2.20//
CALSCALE:GREGORIAN
METHOD:PUBLISH
X-WR-TIMEZONE:Europe/Berlin
BEGIN:VEVENT
UID:event36@Bayerischer Wald-Verein, Sektion Freyung
DTSTAMP:20260419T124709Z
CATEGORIES:Jahresprogramm
DESCRIPTION:Radtour\nKategorie: Jahresprogramm\nICS-Link: http://www.waldve
 rein-freyung.de/index.php?option=com_jem&view=event&id=36:radtour\n
DTSTART;VALUE=DATE:20160806
DTEND;VALUE=DATE:20160807
SUMMARY:Radtour
URL:http://www.waldverein-freyung.de/index.php?option=com_jem&view=event&id
 =36:radtour
END:VEVENT
END:VCALENDAR
