BEGIN:VCALENDAR
VERSION:2.0
PRODID:-//85.13.139.124//NONSGML kigkonsult.se iCalcreator 2.20//
CALSCALE:GREGORIAN
METHOD:PUBLISH
X-WR-TIMEZONE:Europe/Berlin
BEGIN:VEVENT
UID:event355@Bayerischer Wald-Verein, Sektion Freyung
DTSTAMP:20260423T112621Z
CATEGORIES:Jahresprogramm
DESCRIPTION:Jahresrückblick\nKategorie: Jahresprogramm\nICS-Link: http://ww
 w.waldverein-freyung.de/index.php?option=com_jem&view=event&id=355:jahresr
 ueckblick\n
DTSTART;TZID=Europe/Berlin:20251101T180000
DTEND;TZID=Europe/Berlin:20251101T180000
SUMMARY:Jahresrückblick
URL:http://www.waldverein-freyung.de/index.php?option=com_jem&view=event&id
 =355:jahresrueckblick
END:VEVENT
END:VCALENDAR
