BEGIN:VCALENDAR
VERSION:2.0
PRODID:-//85.13.139.124//NONSGML kigkonsult.se iCalcreator 2.20//
CALSCALE:GREGORIAN
METHOD:PUBLISH
X-WR-TIMEZONE:Europe/Berlin
BEGIN:VEVENT
UID:event353@Bayerischer Wald-Verein, Sektion Freyung
DTSTAMP:20260423T111144Z
CATEGORIES:Jahresprogramm
DESCRIPTION:Kultur- und Frühlingsfahrt\nKategorie: Jahresprogramm\nICS-Link
 : http://www.waldverein-freyung.de/index.php?option=com_jem&view=event&id=
 353:kultur-und-fruehlingsfahrt\n
DTSTART;VALUE=DATE:20250427
DTEND;VALUE=DATE:20250428
SUMMARY:Kultur- und Frühlingsfahrt
URL:http://www.waldverein-freyung.de/index.php?option=com_jem&view=event&id
 =353:kultur-und-fruehlingsfahrt
END:VEVENT
END:VCALENDAR
