BEGIN:VCALENDAR
VERSION:2.0
PRODID:-//85.13.139.124//NONSGML kigkonsult.se iCalcreator 2.20//
CALSCALE:GREGORIAN
METHOD:PUBLISH
X-WR-TIMEZONE:Europe/Berlin
BEGIN:VEVENT
UID:event346@Bayerischer Wald-Verein, Sektion Freyung
DTSTAMP:20260421T092815Z
CATEGORIES:Info
DESCRIPTION:Rachel-Messe\nKategorie: Info\nICS-Link: http://www.waldverein-
 freyung.de/index.php?option=com_jem&view=event&id=346:rachel-messe\n
DTSTART;TZID=Europe/Berlin:20251003T120000
DTEND;TZID=Europe/Berlin:20251003T120000
SUMMARY:Rachel-Messe
URL:http://www.waldverein-freyung.de/index.php?option=com_jem&view=event&id
 =346:rachel-messe
END:VEVENT
END:VCALENDAR
