BEGIN:VCALENDAR
VERSION:2.0
PRODID:-//85.13.139.124//NONSGML kigkonsult.se iCalcreator 2.20//
CALSCALE:GREGORIAN
METHOD:PUBLISH
X-WR-TIMEZONE:Europe/Berlin
BEGIN:VEVENT
UID:event339@Bayerischer Wald-Verein, Sektion Freyung
DTSTAMP:20260421T092838Z
CATEGORIES:Info
DESCRIPTION:Lusen-Messe\nKategorie: Info\nICS-Link: http://www.waldverein-f
 reyung.de/index.php?option=com_jem&view=event&id=339:lusen-messe\n
DTSTART;TZID=Europe/Berlin:20250921T103000
DTEND;TZID=Europe/Berlin:20250921T103000
SUMMARY:Lusen-Messe
URL:http://www.waldverein-freyung.de/index.php?option=com_jem&view=event&id
 =339:lusen-messe
END:VEVENT
END:VCALENDAR
