BEGIN:VCALENDAR
VERSION:2.0
PRODID:-//85.13.139.124//NONSGML kigkonsult.se iCalcreator 2.20//
CALSCALE:GREGORIAN
METHOD:PUBLISH
X-WR-TIMEZONE:Europe/Berlin
BEGIN:VEVENT
UID:event336@Bayerischer Wald-Verein, Sektion Freyung
DTSTAMP:20260423T101455Z
CATEGORIES:Jahresprogramm
DESCRIPTION:Radtour Kleinwiesen\nKategorie: Jahresprogramm\nICS-Link: http:
 //www.waldverein-freyung.de/index.php?option=com_jem&view=event&id=336:rad
 tour-kleinwiesen\n
DTSTART;TZID=Europe/Berlin:20250823T090000
DTEND;TZID=Europe/Berlin:20250823T090000
SUMMARY:Radtour Kleinwiesen
URL:http://www.waldverein-freyung.de/index.php?option=com_jem&view=event&id
 =336:radtour-kleinwiesen
END:VEVENT
END:VCALENDAR
