BEGIN:VCALENDAR
VERSION:2.0
PRODID:-//85.13.139.124//NONSGML kigkonsult.se iCalcreator 2.20//
CALSCALE:GREGORIAN
METHOD:PUBLISH
X-WR-TIMEZONE:Europe/Berlin
BEGIN:VEVENT
UID:event33@Bayerischer Wald-Verein, Sektion Freyung
DTSTAMP:20260419T124716Z
CATEGORIES:Jahresprogramm
DESCRIPTION:Pilgerweg Via Nova\nKategorie: Jahresprogramm\nICS-Link: http:/
 /www.waldverein-freyung.de/index.php?option=com_jem&view=event&id=33:pilge
 rweg-via-nova\n
DTSTART;TZID=Europe/Berlin:20160716T110000
DTEND;TZID=Europe/Berlin:20160716T110000
SUMMARY:Pilgerweg Via Nova
URL:http://www.waldverein-freyung.de/index.php?option=com_jem&view=event&id
 =33:pilgerweg-via-nova
END:VEVENT
END:VCALENDAR
