BEGIN:VCALENDAR
VERSION:2.0
PRODID:-//85.13.139.124//NONSGML kigkonsult.se iCalcreator 2.20//
CALSCALE:GREGORIAN
METHOD:PUBLISH
X-WR-TIMEZONE:Europe/Berlin
BEGIN:VEVENT
UID:event328@Bayerischer Wald-Verein, Sektion Freyung
DTSTAMP:20260423T110306Z
CATEGORIES:Jahresprogramm
DESCRIPTION:Radtour zum Waldfest in Schwendreut\nKategorie: Jahresprogramm
 \nICS-Link: http://www.waldverein-freyung.de/index.php?option=com_jem&view
 =event&id=328:radtour-zum-waldfest-in-schwendreut\n
DTSTART;TZID=Europe/Berlin:20250727T110000
DTEND;TZID=Europe/Berlin:20250727T110000
SUMMARY:Radtour zum Waldfest in Schwendreut
URL:http://www.waldverein-freyung.de/index.php?option=com_jem&view=event&id
 =328:radtour-zum-waldfest-in-schwendreut
END:VEVENT
END:VCALENDAR
