BEGIN:VCALENDAR
VERSION:2.0
PRODID:-//85.13.139.124//NONSGML kigkonsult.se iCalcreator 2.20//
CALSCALE:GREGORIAN
METHOD:PUBLISH
X-WR-TIMEZONE:Europe/Berlin
BEGIN:VEVENT
UID:event324@Bayerischer Wald-Verein, Sektion Freyung
DTSTAMP:20260421T094945Z
CATEGORIES:Jahresprogramm
DESCRIPTION:Aschermittwoch-Wanderung mit Fisch essen\nKategorie: Jahresprog
 ramm\nICS-Link: http://www.waldverein-freyung.de/index.php?option=com_jem&
 view=event&id=324:aschermittwoch-wanderung-mit-fisch-essen\n
DTSTART;TZID=Europe/Berlin:20250305T090000
DTEND;TZID=Europe/Berlin:20250305T090000
SUMMARY:Aschermittwoch-Wanderung mit Fisch essen
URL:http://www.waldverein-freyung.de/index.php?option=com_jem&view=event&id
 =324:aschermittwoch-wanderung-mit-fisch-essen
END:VEVENT
END:VCALENDAR
