BEGIN:VCALENDAR
VERSION:2.0
PRODID:-//85.13.139.124//NONSGML kigkonsult.se iCalcreator 2.20//
CALSCALE:GREGORIAN
METHOD:PUBLISH
X-WR-TIMEZONE:Europe/Berlin
BEGIN:VEVENT
UID:event323@Bayerischer Wald-Verein, Sektion Freyung
DTSTAMP:20260423T133533Z
CATEGORIES:Info
DESCRIPTION:Winterwandertage in\nKategorie: Info\nICS-Link: http://www.wald
 verein-freyung.de/index.php?option=com_jem&view=event&id=323:winterwandert
 age-in\n
DTSTART;VALUE=DATE:20250115
DTEND;VALUE=DATE:20250120
SUMMARY:Winterwandertage in
URL:http://www.waldverein-freyung.de/index.php?option=com_jem&view=event&id
 =323:winterwandertage-in
END:VEVENT
END:VCALENDAR
