BEGIN:VCALENDAR
VERSION:2.0
PRODID:-//85.13.139.124//NONSGML kigkonsult.se iCalcreator 2.20//
CALSCALE:GREGORIAN
METHOD:PUBLISH
X-WR-TIMEZONE:Europe/Berlin
BEGIN:VEVENT
UID:event318@Bayerischer Wald-Verein, Sektion Freyung
DTSTAMP:20260423T100854Z
CATEGORIES:Info
DESCRIPTION:Waldweihnacht Geyersberg\nKategorie: Info\nICS-Link: http://www
 .waldverein-freyung.de/index.php?option=com_jem&view=event&id=318:waldweih
 nacht-geyersberg\n
DTSTART;VALUE=DATE:20241226
DTEND;VALUE=DATE:20241227
SUMMARY:Waldweihnacht Geyersberg
URL:http://www.waldverein-freyung.de/index.php?option=com_jem&view=event&id
 =318:waldweihnacht-geyersberg
END:VEVENT
END:VCALENDAR
