BEGIN:VCALENDAR
VERSION:2.0
PRODID:-//85.13.139.124//NONSGML kigkonsult.se iCalcreator 2.20//
CALSCALE:GREGORIAN
METHOD:PUBLISH
X-WR-TIMEZONE:Europe/Berlin
BEGIN:VEVENT
UID:event314@Bayerischer Wald-Verein, Sektion Freyung
DTSTAMP:20260423T100700Z
CATEGORIES:Jahresprogramm
DESCRIPTION:Jahresrückblick in Bildern\nKategorie: Jahresprogramm\nICS-Link
 : http://www.waldverein-freyung.de/index.php?option=com_jem&view=event&id=
 314:jahresrueckblick-in-bildern\n
DTSTART;TZID=Europe/Berlin:20241025T180000
DTEND;TZID=Europe/Berlin:20241025T180000
SUMMARY:Jahresrückblick in Bildern
URL:http://www.waldverein-freyung.de/index.php?option=com_jem&view=event&id
 =314:jahresrueckblick-in-bildern
END:VEVENT
END:VCALENDAR
