BEGIN:VCALENDAR
VERSION:2.0
PRODID:-//85.13.139.124//NONSGML kigkonsult.se iCalcreator 2.20//
CALSCALE:GREGORIAN
METHOD:PUBLISH
X-WR-TIMEZONE:Europe/Berlin
BEGIN:VEVENT
UID:event296@Bayerischer Wald-Verein, Sektion Freyung
DTSTAMP:20260421T093009Z
CATEGORIES:Info
DESCRIPTION:Bergmesse Brotjacklriegel\nKategorie: Info\nICS-Link: http://ww
 w.waldverein-freyung.de/index.php?option=com_jem&view=event&id=296:bergmes
 se-brotjacklriegel\n
DTSTART;TZID=Europe/Berlin:20240623T100000
DTEND;TZID=Europe/Berlin:20240623T100000
SUMMARY:Bergmesse Brotjacklriegel
URL:http://www.waldverein-freyung.de/index.php?option=com_jem&view=event&id
 =296:bergmesse-brotjacklriegel
END:VEVENT
END:VCALENDAR
