BEGIN:VCALENDAR
VERSION:2.0
PRODID:-//85.13.139.124//NONSGML kigkonsult.se iCalcreator 2.20//
CALSCALE:GREGORIAN
METHOD:PUBLISH
X-WR-TIMEZONE:Europe/Berlin
BEGIN:VEVENT
UID:event291@Bayerischer Wald-Verein, Sektion Freyung
DTSTAMP:20260423T101455Z
CATEGORIES:Jahresprogramm
DESCRIPTION:Tag des Wanderns/Heidenstein (CZ)\nKategorie: Jahresprogramm\nI
 CS-Link: http://www.waldverein-freyung.de/index.php?option=com_jem&view=ev
 ent&id=291:tag-des-wanderns-heidenstein-cz\n
DTSTART;TZID=Europe/Berlin:20240514T093000
DTEND;TZID=Europe/Berlin:20240514T093000
SUMMARY:Tag des Wanderns/Heidenstein (CZ)
URL:http://www.waldverein-freyung.de/index.php?option=com_jem&view=event&id
 =291:tag-des-wanderns-heidenstein-cz
END:VEVENT
END:VCALENDAR
