BEGIN:VCALENDAR
VERSION:2.0
PRODID:-//85.13.139.124//NONSGML kigkonsult.se iCalcreator 2.20//
CALSCALE:GREGORIAN
METHOD:PUBLISH
X-WR-TIMEZONE:Europe/Berlin
BEGIN:VEVENT
UID:event263@Bayerischer Wald-Verein, Sektion Freyung
DTSTAMP:20260419T145336Z
CATEGORIES:Info
DESCRIPTION:Lusen-Messe\nKategorie: Info\nICS-Link: http://www.waldverein-f
 reyung.de/index.php?option=com_jem&view=event&id=263:lusen-messe\n
DTSTART;VALUE=DATE:20220918
DTEND;VALUE=DATE:20220919
SUMMARY:Lusen-Messe
URL:http://www.waldverein-freyung.de/index.php?option=com_jem&view=event&id
 =263:lusen-messe
END:VEVENT
END:VCALENDAR
