BEGIN:VCALENDAR
VERSION:2.0
PRODID:-//85.13.139.124//NONSGML kigkonsult.se iCalcreator 2.20//
CALSCALE:GREGORIAN
METHOD:PUBLISH
X-WR-TIMEZONE:Europe/Berlin
BEGIN:VEVENT
UID:event259@Bayerischer Wald-Verein, Sektion Freyung
DTSTAMP:20260419T150114Z
CATEGORIES:Info
DESCRIPTION:Arberkirchweih\nKategorie: Info\nICS-Link: http://www.waldverei
 n-freyung.de/index.php?option=com_jem&view=event&id=259:arberkirchweih\n
DTSTART;TZID=Europe/Berlin:20220821T103000
DTEND;TZID=Europe/Berlin:20220821T103000
SUMMARY:Arberkirchweih
URL:http://www.waldverein-freyung.de/index.php?option=com_jem&view=event&id
 =259:arberkirchweih
END:VEVENT
END:VCALENDAR
