BEGIN:VCALENDAR
VERSION:2.0
PRODID:-//85.13.139.124//NONSGML kigkonsult.se iCalcreator 2.20//
CALSCALE:GREGORIAN
METHOD:PUBLISH
X-WR-TIMEZONE:Europe/Berlin
BEGIN:VEVENT
UID:event258@Bayerischer Wald-Verein, Sektion Freyung
DTSTAMP:20260421T105558Z
CATEGORIES:Jahresprogramm
DESCRIPTION:Wanderung im Salzkammergut (A)\nKategorie: Jahresprogramm\nICS-
 Link: http://www.waldverein-freyung.de/index.php?option=com_jem&view=event
 &id=258:wanderung-im-salzkammergut-a\n
DTSTART;TZID=Europe/Berlin:20220809T063000
DTEND;TZID=Europe/Berlin:20220809T063000
SUMMARY:Wanderung im Salzkammergut (A)
URL:http://www.waldverein-freyung.de/index.php?option=com_jem&view=event&id
 =258:wanderung-im-salzkammergut-a
END:VEVENT
END:VCALENDAR
