BEGIN:VCALENDAR
VERSION:2.0
PRODID:-//85.13.139.124//NONSGML kigkonsult.se iCalcreator 2.20//
CALSCALE:GREGORIAN
METHOD:PUBLISH
X-WR-TIMEZONE:Europe/Berlin
BEGIN:VEVENT
UID:event249@Bayerischer Wald-Verein, Sektion Freyung
DTSTAMP:20260423T101353Z
CATEGORIES:Jahresprogramm
DESCRIPTION:Lusenwanderunq ab PP Waldhäuser\nKategorie: Jahresprogramm\nICS
 -Link: http://www.waldverein-freyung.de/index.php?option=com_jem&view=even
 t&id=249:lusenwanderunq-ab-pp-waldhaeuser\n
DTSTART;TZID=Europe/Berlin:20220604T090000
DTEND;TZID=Europe/Berlin:20220604T090000
SUMMARY:Lusenwanderunq ab PP Waldhäuser
URL:http://www.waldverein-freyung.de/index.php?option=com_jem&view=event&id
 =249:lusenwanderunq-ab-pp-waldhaeuser
END:VEVENT
END:VCALENDAR
