BEGIN:VCALENDAR
VERSION:2.0
PRODID:-//85.13.139.124//NONSGML kigkonsult.se iCalcreator 2.20//
CALSCALE:GREGORIAN
METHOD:PUBLISH
X-WR-TIMEZONE:Europe/Berlin
BEGIN:VEVENT
UID:event245@Bayerischer Wald-Verein, Sektion Freyung
DTSTAMP:20260423T101942Z
CATEGORIES:Jahresprogramm
DESCRIPTION:Wanderung nach Großwiesen\nKategorie: Jahresprogramm\nICS-Link:
  http://www.waldverein-freyung.de/index.php?option=com_jem&view=event&id=2
 45:wanderung-nach-grosswiesen\n
DTSTART;TZID=Europe/Berlin:20220501T130000
DTEND;TZID=Europe/Berlin:20220501T130000
SUMMARY:Wanderung nach Großwiesen
URL:http://www.waldverein-freyung.de/index.php?option=com_jem&view=event&id
 =245:wanderung-nach-grosswiesen
END:VEVENT
END:VCALENDAR
