BEGIN:VCALENDAR
VERSION:2.0
PRODID:-//85.13.139.124//NONSGML kigkonsult.se iCalcreator 2.20//
CALSCALE:GREGORIAN
METHOD:PUBLISH
X-WR-TIMEZONE:Europe/Berlin
BEGIN:VEVENT
UID:event238@Bayerischer Wald-Verein, Sektion Freyung
DTSTAMP:20260421T094356Z
CATEGORIES:Jahresprogramm
DESCRIPTION:Jahreshauptversammlung mit Neuwahlen\nKategorie: Jahresprogramm
 \nICS-Link: http://www.waldverein-freyung.de/index.php?option=com_jem&view
 =event&id=238:jahreshauptversammlung\n
DTSTART;TZID=Europe/Berlin:20220122T183000
DTEND;TZID=Europe/Berlin:20220122T183000
SUMMARY:Jahreshauptversammlung mit Neuwahlen
URL:http://www.waldverein-freyung.de/index.php?option=com_jem&view=event&id
 =238:jahreshauptversammlung
END:VEVENT
END:VCALENDAR
