BEGIN:VCALENDAR
VERSION:2.0
PRODID:-//85.13.139.124//NONSGML kigkonsult.se iCalcreator 2.20//
CALSCALE:GREGORIAN
METHOD:PUBLISH
X-WR-TIMEZONE:Europe/Berlin
BEGIN:VEVENT
UID:event231@Bayerischer Wald-Verein, Sektion Freyung
DTSTAMP:20260419T132726Z
CATEGORIES:Jahresprogramm
DESCRIPTION:Wanderung Saußbachklamm\nKategorie: Jahresprogramm\nICS-Link: h
 ttp://www.waldverein-freyung.de/index.php?option=com_jem&view=event&id=231
 :wanderung-saussbachklamm\n
DTSTART;TZID=Europe/Berlin:20211106T124500
DTEND;TZID=Europe/Berlin:20211106T124500
SUMMARY:Wanderung Saußbachklamm
URL:http://www.waldverein-freyung.de/index.php?option=com_jem&view=event&id
 =231:wanderung-saussbachklamm
END:VEVENT
END:VCALENDAR
