BEGIN:VCALENDAR
VERSION:2.0
PRODID:-//85.13.139.124//NONSGML kigkonsult.se iCalcreator 2.20//
CALSCALE:GREGORIAN
METHOD:PUBLISH
X-WR-TIMEZONE:Europe/Berlin
BEGIN:VEVENT
UID:event226@Bayerischer Wald-Verein, Sektion Freyung
DTSTAMP:20260423T100813Z
CATEGORIES:Jahresprogramm
DESCRIPTION:Herbstwanderung zur Steinfleckhütte\nKategorie: Jahresprogramm
 \nICS-Link: http://www.waldverein-freyung.de/index.php?option=com_jem&view
 =event&id=226:herbstwanderung-zur-steinfleckhuette\n
DTSTART;TZID=Europe/Berlin:20211002T083000
DTEND;TZID=Europe/Berlin:20211002T083000
SUMMARY:Herbstwanderung zur Steinfleckhütte
URL:http://www.waldverein-freyung.de/index.php?option=com_jem&view=event&id
 =226:herbstwanderung-zur-steinfleckhuette
END:VEVENT
END:VCALENDAR
