BEGIN:VCALENDAR
VERSION:2.0
PRODID:-//85.13.139.124//NONSGML kigkonsult.se iCalcreator 2.20//
CALSCALE:GREGORIAN
METHOD:PUBLISH
X-WR-TIMEZONE:Europe/Berlin
BEGIN:VEVENT
UID:event223@Bayerischer Wald-Verein, Sektion Freyung
DTSTAMP:20260421T093009Z
CATEGORIES:Jahresprogramm
DESCRIPTION:Wanderung im Böhmerwald (Cz) \nKategorie: Jahresprogramm\nICS-L
 ink: http://www.waldverein-freyung.de/index.php?option=com_jem&view=event&
 id=223:wanderung-im-boehmerwald-cz\n
DTSTART;TZID=Europe/Berlin:20210911T090000
DTEND;TZID=Europe/Berlin:20210911T090000
SUMMARY:Wanderung im Böhmerwald (Cz) 
URL:http://www.waldverein-freyung.de/index.php?option=com_jem&view=event&id
 =223:wanderung-im-boehmerwald-cz
END:VEVENT
END:VCALENDAR
