BEGIN:VCALENDAR
VERSION:2.0
PRODID:-//85.13.139.124//NONSGML kigkonsult.se iCalcreator 2.20//
CALSCALE:GREGORIAN
METHOD:PUBLISH
X-WR-TIMEZONE:Europe/Berlin
BEGIN:VEVENT
UID:event219@Bayerischer Wald-Verein, Sektion Freyung
DTSTAMP:20260423T112640Z
CATEGORIES:Info
DESCRIPTION:Bürgerfest in Freyung\nKategorie: Info\nICS-Link: http://www.wa
 ldverein-freyung.de/index.php?option=com_jem&view=event&id=219:buergerfest
 -in-freyung\n
DTSTART;VALUE=DATE:20210731
DTEND;VALUE=DATE:20210801
SUMMARY:Bürgerfest in Freyung
URL:http://www.waldverein-freyung.de/index.php?option=com_jem&view=event&id
 =219:buergerfest-in-freyung
END:VEVENT
END:VCALENDAR
