BEGIN:VCALENDAR
VERSION:2.0
PRODID:-//85.13.139.124//NONSGML kigkonsult.se iCalcreator 2.20//
CALSCALE:GREGORIAN
METHOD:PUBLISH
X-WR-TIMEZONE:Europe/Berlin
BEGIN:VEVENT
UID:event217@Bayerischer Wald-Verein, Sektion Freyung
DTSTAMP:20260421T092838Z
CATEGORIES:Jahresprogramm
DESCRIPTION:Pilgerweg Via Nova (CZ)\nKategorie: Jahresprogramm\nICS-Link: h
 ttp://www.waldverein-freyung.de/index.php?option=com_jem&view=event&id=217
 :pilgerweg-via-nova-cz\n
DTSTART;VALUE=DATE:20210711
DTEND;VALUE=DATE:20210712
SUMMARY:Pilgerweg Via Nova (CZ)
URL:http://www.waldverein-freyung.de/index.php?option=com_jem&view=event&id
 =217:pilgerweg-via-nova-cz
END:VEVENT
END:VCALENDAR
