BEGIN:VCALENDAR
VERSION:2.0
PRODID:-//85.13.139.124//NONSGML kigkonsult.se iCalcreator 2.20//
CALSCALE:GREGORIAN
METHOD:PUBLISH
X-WR-TIMEZONE:Europe/Berlin
BEGIN:VEVENT
UID:event213@Bayerischer Wald-Verein, Sektion Freyung
DTSTAMP:20260421T095407Z
CATEGORIES:Jahresprogramm
DESCRIPTION:„Naturerlebnispfad im Tal der Mühlen“ \nKategorie: Jahresprogra
 mm\nICS-Link: http://www.waldverein-freyung.de/index.php?option=com_jem&vi
 ew=event&id=213:naturerlebnispfad-im-tal-der-muehlen\n
DTSTART;TZID=Europe/Berlin:20210515T123000
DTEND;TZID=Europe/Berlin:20210515T123000
SUMMARY:„Naturerlebnispfad im Tal der Mühlen“ 
URL:http://www.waldverein-freyung.de/index.php?option=com_jem&view=event&id
 =213:naturerlebnispfad-im-tal-der-muehlen
END:VEVENT
END:VCALENDAR
