BEGIN:VCALENDAR
VERSION:2.0
PRODID:-//85.13.139.124//NONSGML kigkonsult.se iCalcreator 2.20//
CALSCALE:GREGORIAN
METHOD:PUBLISH
X-WR-TIMEZONE:Europe/Berlin
BEGIN:VEVENT
UID:event188@Bayerischer Wald-Verein, Sektion Freyung
DTSTAMP:20260421T093446Z
CATEGORIES:Jahresprogramm
DESCRIPTION:3-Tages-Fahrt nach Heidelberg – Speyer – Rothenburg ob der Taub
 er (ABGESAGT)\nKategorie: Jahresprogramm\nICS-Link: http://www.waldverein-
 freyung.de/index.php?option=com_jem&view=event&id=188:3-tages-fahrt-nach-h
 eidelberg-speyer-rothenburg-ob-der-tauber\n
DTSTART;TZID=Europe/Berlin:20200828T070000
DTEND;TZID=Europe/Berlin:20200830T070000
SUMMARY:3-Tages-Fahrt nach Heidelberg – Speyer – Rothenburg ob der Tauber (
 ABGESAGT)
URL:http://www.waldverein-freyung.de/index.php?option=com_jem&view=event&id
 =188:3-tages-fahrt-nach-heidelberg-speyer-rothenburg-ob-der-tauber
END:VEVENT
END:VCALENDAR
