BEGIN:VCALENDAR
VERSION:2.0
PRODID:-//85.13.139.124//NONSGML kigkonsult.se iCalcreator 2.20//
CALSCALE:GREGORIAN
METHOD:PUBLISH
X-WR-TIMEZONE:Europe/Berlin
BEGIN:VEVENT
UID:event187@Bayerischer Wald-Verein, Sektion Freyung
DTSTAMP:20260421T110335Z
CATEGORIES:Jahresprogramm
DESCRIPTION:Fahrt zum Dudelsackfestival (CZ) (ABGESAGT)\nKategorie: Jahresp
 rogramm\nICS-Link: http://www.waldverein-freyung.de/index.php?option=com_j
 em&view=event&id=187:fahrt-zum-dudelsackfestival-cz\n
DTSTART;TZID=Europe/Berlin:20200823T080000
DTEND;TZID=Europe/Berlin:20200823T080000
SUMMARY:Fahrt zum Dudelsackfestival (CZ) (ABGESAGT)
URL:http://www.waldverein-freyung.de/index.php?option=com_jem&view=event&id
 =187:fahrt-zum-dudelsackfestival-cz
END:VEVENT
END:VCALENDAR
