BEGIN:VCALENDAR
VERSION:2.0
PRODID:-//85.13.139.124//NONSGML kigkonsult.se iCalcreator 2.20//
CALSCALE:GREGORIAN
METHOD:PUBLISH
X-WR-TIMEZONE:Europe/Berlin
BEGIN:VEVENT
UID:event182@Bayerischer Wald-Verein, Sektion Freyung
DTSTAMP:20260419T150827Z
CATEGORIES:Jahresprogramm
DESCRIPTION:Bergwanderung nach Kasberg Grünau\nKategorie: Jahresprogramm\nI
 CS-Link: http://www.waldverein-freyung.de/index.php?option=com_jem&view=ev
 ent&id=182:bergwanderung-nach-kasberg-gruenau\n
DTSTART;TZID=Europe/Berlin:20200718T061500
DTEND;TZID=Europe/Berlin:20200718T061500
SUMMARY:Bergwanderung nach Kasberg Grünau
URL:http://www.waldverein-freyung.de/index.php?option=com_jem&view=event&id
 =182:bergwanderung-nach-kasberg-gruenau
END:VEVENT
END:VCALENDAR
