BEGIN:VCALENDAR
VERSION:2.0
PRODID:-//85.13.139.124//NONSGML kigkonsult.se iCalcreator 2.20//
CALSCALE:GREGORIAN
METHOD:PUBLISH
X-WR-TIMEZONE:Europe/Berlin
BEGIN:VEVENT
UID:event179@Bayerischer Wald-Verein, Sektion Freyung
DTSTAMP:20260421T105522Z
CATEGORIES:Jahresprogramm
DESCRIPTION:Volksfestauftakt\nKategorie: Jahresprogramm\nICS-Link: http://w
 ww.waldverein-freyung.de/index.php?option=com_jem&view=event&id=179:volksf
 estauftakt\n
DTSTART;TZID=Europe/Berlin:20200626T170000
DTEND;TZID=Europe/Berlin:20200626T170000
SUMMARY:Volksfestauftakt
URL:http://www.waldverein-freyung.de/index.php?option=com_jem&view=event&id
 =179:volksfestauftakt
END:VEVENT
END:VCALENDAR
