BEGIN:VCALENDAR
VERSION:2.0
PRODID:-//85.13.139.124//NONSGML kigkonsult.se iCalcreator 2.20//
CALSCALE:GREGORIAN
METHOD:PUBLISH
X-WR-TIMEZONE:Europe/Berlin
BEGIN:VEVENT
UID:event167@Bayerischer Wald-Verein, Sektion Freyung
DTSTAMP:20260423T113743Z
CATEGORIES:Jahresprogramm
DESCRIPTION:Schneeschuhwanderung zum Gr. Rachel (1453 m) über Klingenbrunne
 r Rachelsteig\nKategorie: Jahresprogramm\nICS-Link: http://www.waldverein-
 freyung.de/index.php?option=com_jem&view=event&id=167:schneeschuhwanderung
 -zum-gr-rachel-1453-m-ueber-klingenbrunner-rachelsteig\n
DTSTART;TZID=Europe/Berlin:20200224T093000
DTEND;TZID=Europe/Berlin:20200224T093000
SUMMARY:Schneeschuhwanderung zum Gr. Rachel (1453 m) über Klingenbrunner Ra
 chelsteig
URL:http://www.waldverein-freyung.de/index.php?option=com_jem&view=event&id
 =167:schneeschuhwanderung-zum-gr-rachel-1453-m-ueber-klingenbrunner-rachel
 steig
END:VEVENT
END:VCALENDAR
