BEGIN:VCALENDAR
VERSION:2.0
PRODID:-//85.13.139.124//NONSGML kigkonsult.se iCalcreator 2.20//
CALSCALE:GREGORIAN
METHOD:PUBLISH
X-WR-TIMEZONE:Europe/Berlin
BEGIN:VEVENT
UID:event160@Bayerischer Wald-Verein, Sektion Freyung
DTSTAMP:20260423T111255Z
CATEGORIES:Jahresprogramm
DESCRIPTION:Wanderung rund um Herzogsreut\nKategorie: Jahresprogramm\nICS-L
 ink: http://www.waldverein-freyung.de/index.php?option=com_jem&view=event&
 id=160:wanderung-rund-um-herzogsreut\n
DTSTART;TZID=Europe/Berlin:20191109T113000
DTEND;TZID=Europe/Berlin:20191109T113000
SUMMARY:Wanderung rund um Herzogsreut
URL:http://www.waldverein-freyung.de/index.php?option=com_jem&view=event&id
 =160:wanderung-rund-um-herzogsreut
END:VEVENT
END:VCALENDAR
