BEGIN:VCALENDAR
VERSION:2.0
PRODID:-//85.13.139.124//NONSGML kigkonsult.se iCalcreator 2.20//
CALSCALE:GREGORIAN
METHOD:PUBLISH
X-WR-TIMEZONE:Europe/Berlin
BEGIN:VEVENT
UID:event155@Bayerischer Wald-Verein, Sektion Freyung
DTSTAMP:20260421T092815Z
CATEGORIES:Jahresprogramm
DESCRIPTION:Wanderung bei Langdorf\nKategorie: Jahresprogramm\nICS-Link: ht
 tp://www.waldverein-freyung.de/index.php?option=com_jem&view=event&id=155:
 wanderung-bei-langdorf\n
DTSTART;VALUE=DATE:20191012
DTEND;VALUE=DATE:20191013
SUMMARY:Wanderung bei Langdorf
URL:http://www.waldverein-freyung.de/index.php?option=com_jem&view=event&id
 =155:wanderung-bei-langdorf
END:VEVENT
END:VCALENDAR
