BEGIN:VCALENDAR
VERSION:2.0
PRODID:-//85.13.139.124//NONSGML kigkonsult.se iCalcreator 2.20//
CALSCALE:GREGORIAN
METHOD:PUBLISH
X-WR-TIMEZONE:Europe/Berlin
BEGIN:VEVENT
UID:event134@Bayerischer Wald-Verein, Sektion Freyung
DTSTAMP:20260419T173826Z
CATEGORIES:Jahresprogramm
DESCRIPTION:Skiwanderung (CZ) \nKategorie: Jahresprogramm\nICS-Link: http:/
 /www.waldverein-freyung.de/index.php?option=com_jem&view=event&id=134:skiw
 anderung-cz\n
DTSTART;TZID=Europe/Berlin:20190310T093000
DTEND;TZID=Europe/Berlin:20190310T093000
SUMMARY:Skiwanderung (CZ) 
URL:http://www.waldverein-freyung.de/index.php?option=com_jem&view=event&id
 =134:skiwanderung-cz
END:VEVENT
END:VCALENDAR
