BEGIN:VCALENDAR
VERSION:2.0
PRODID:-//85.13.139.124//NONSGML kigkonsult.se iCalcreator 2.20//
CALSCALE:GREGORIAN
METHOD:PUBLISH
X-WR-TIMEZONE:Europe/Berlin
BEGIN:VEVENT
UID:event13@Bayerischer Wald-Verein, Sektion Freyung
DTSTAMP:20260423T100700Z
CATEGORIES:Jahresprogramm
DESCRIPTION:Altbayerisches Adventsingen\nKategorie: Jahresprogramm\nICS-Lin
 k: http://www.waldverein-freyung.de/index.php?option=com_jem&view=event&id
 =13:altbayerisches-adventsingen\n
DTSTART;TZID=Europe/Berlin:20151129T160000
DTEND;TZID=Europe/Berlin:20151129T160000
LOCATION:Stadtpfarrkirche Grafenau\,Grafenau
SUMMARY:Altbayerisches Adventsingen
URL:http://www.waldverein-freyung.de/index.php?option=com_jem&view=event&id
 =13:altbayerisches-adventsingen
END:VEVENT
END:VCALENDAR
